BEGIN:VCALENDAR
VERSION:2.0
PRODID:-//Carb-X - ECPv6.15.20//NONSGML v1.0//EN
CALSCALE:GREGORIAN
METHOD:PUBLISH
X-ORIGINAL-URL:https://carb-x.org
X-WR-CALDESC:Events for Carb-X
REFRESH-INTERVAL;VALUE=DURATION:PT1H
X-Robots-Tag:noindex
X-PUBLISHED-TTL:PT1H
BEGIN:VTIMEZONE
TZID:Europe/London
BEGIN:DAYLIGHT
TZOFFSETFROM:+0000
TZOFFSETTO:+0100
TZNAME:BST
DTSTART:20170326T010000
END:DAYLIGHT
BEGIN:STANDARD
TZOFFSETFROM:+0100
TZOFFSETTO:+0000
TZNAME:GMT
DTSTART:20171029T010000
END:STANDARD
BEGIN:DAYLIGHT
TZOFFSETFROM:+0000
TZOFFSETTO:+0100
TZNAME:BST
DTSTART:20180325T010000
END:DAYLIGHT
BEGIN:STANDARD
TZOFFSETFROM:+0100
TZOFFSETTO:+0000
TZNAME:GMT
DTSTART:20181028T010000
END:STANDARD
BEGIN:DAYLIGHT
TZOFFSETFROM:+0000
TZOFFSETTO:+0100
TZNAME:BST
DTSTART:20190331T010000
END:DAYLIGHT
BEGIN:STANDARD
TZOFFSETFROM:+0100
TZOFFSETTO:+0000
TZNAME:GMT
DTSTART:20191027T010000
END:STANDARD
END:VTIMEZONE
BEGIN:VEVENT
DTSTART;TZID=Europe/London:20181112T003000
DTEND;TZID=Europe/London:20181112T133000
DTSTAMP:20260424T104156
CREATED:20181030T184427Z
LAST-MODIFIED:20181030T184427Z
UID:1978-1541982600-1542029400@carb-x.org
SUMMARY:Lecture by Kevin Outterson: Why is a lawyer leading antibiotic R&D at CARB-X?
DESCRIPTION:Kevin Outterson is the N Neal Pike Professor of Health and Disability Law at Boston University and the Executive Director of CARB-X\, the world’s largest product development partnership addressing drug-resistant bacterial infections. He will share his personal stories of how experiences\, skills\, passion and faith converge in the efforts to protect us all from drug-resistant bacterial infections.
URL:https://carb-x.org/event/lecture-by-kevin-outterson-why-is-a-lawyer-leading-antibiotic-rd-at-carb-x/
LOCATION:Wellcome Trust\, Euston Road\, London\, NW1\, United Kingdom
END:VEVENT
END:VCALENDAR