BEGIN:VCALENDAR
VERSION:2.0
PRODID:-//Carb-X - ECPv6.15.20//NONSGML v1.0//EN
CALSCALE:GREGORIAN
METHOD:PUBLISH
X-ORIGINAL-URL:https://carb-x.org
X-WR-CALDESC:Events for Carb-X
REFRESH-INTERVAL;VALUE=DURATION:PT1H
X-Robots-Tag:noindex
X-PUBLISHED-TTL:PT1H
BEGIN:VTIMEZONE
TZID:Europe/Paris
BEGIN:DAYLIGHT
TZOFFSETFROM:+0100
TZOFFSETTO:+0200
TZNAME:CEST
DTSTART:20180325T010000
END:DAYLIGHT
BEGIN:STANDARD
TZOFFSETFROM:+0200
TZOFFSETTO:+0100
TZNAME:CET
DTSTART:20181028T010000
END:STANDARD
BEGIN:DAYLIGHT
TZOFFSETFROM:+0100
TZOFFSETTO:+0200
TZNAME:CEST
DTSTART:20190331T010000
END:DAYLIGHT
BEGIN:STANDARD
TZOFFSETFROM:+0200
TZOFFSETTO:+0100
TZNAME:CET
DTSTART:20191027T010000
END:STANDARD
BEGIN:DAYLIGHT
TZOFFSETFROM:+0100
TZOFFSETTO:+0200
TZNAME:CEST
DTSTART:20200329T010000
END:DAYLIGHT
BEGIN:STANDARD
TZOFFSETFROM:+0200
TZOFFSETTO:+0100
TZNAME:CET
DTSTART:20201025T010000
END:STANDARD
END:VTIMEZONE
BEGIN:VEVENT
DTSTART;TZID=Europe/Paris:20190328T170000
DTEND;TZID=Europe/Paris:20190328T183000
DTSTAMP:20260424T085706
CREATED:20190206T171101Z
LAST-MODIFIED:20190327T134854Z
UID:2349-1553792400-1553797800@carb-x.org
SUMMARY:GARDP Webinar - Clinical development for non-developers Part 3: Antibacterial Drug Enhancer Combinations and Non-traditional Products
DESCRIPTION:The overall goal of this series of webinars is to provide\, for the non-clinical developer\, an understanding of the risks of development for various kinds of antibacterial products. In this third webinar\, we will discuss the development of antibacterial drug enhancer combinations and non-traditional products. \nThe webinar will be held from 5:00 pm – 6:30 pm CET / 12:00 pm – 13:30 pm EDT. \nThe presentations will be followed by a Q&A session.
URL:https://carb-x.org/event/webinar-clinical-development-for-non-developers-part-3-antibacterial-drug-enhancer-combinations-and-non-traditional-products/
LOCATION:Webinar
END:VEVENT
END:VCALENDAR