BEGIN:VCALENDAR
VERSION:2.0
PRODID:-//Carb-X - ECPv6.15.20//NONSGML v1.0//EN
CALSCALE:GREGORIAN
METHOD:PUBLISH
X-WR-CALNAME:Carb-X
X-ORIGINAL-URL:https://carb-x.org
X-WR-CALDESC:Events for Carb-X
REFRESH-INTERVAL;VALUE=DURATION:PT1H
X-Robots-Tag:noindex
X-PUBLISHED-TTL:PT1H
BEGIN:VTIMEZONE
TZID:America/New_York
BEGIN:DAYLIGHT
TZOFFSETFROM:-0500
TZOFFSETTO:-0400
TZNAME:EDT
DTSTART:20200308T070000
END:DAYLIGHT
BEGIN:STANDARD
TZOFFSETFROM:-0400
TZOFFSETTO:-0500
TZNAME:EST
DTSTART:20201101T060000
END:STANDARD
BEGIN:DAYLIGHT
TZOFFSETFROM:-0500
TZOFFSETTO:-0400
TZNAME:EDT
DTSTART:20210314T070000
END:DAYLIGHT
BEGIN:STANDARD
TZOFFSETFROM:-0400
TZOFFSETTO:-0500
TZNAME:EST
DTSTART:20211107T060000
END:STANDARD
BEGIN:DAYLIGHT
TZOFFSETFROM:-0500
TZOFFSETTO:-0400
TZNAME:EDT
DTSTART:20220313T070000
END:DAYLIGHT
BEGIN:STANDARD
TZOFFSETFROM:-0400
TZOFFSETTO:-0500
TZNAME:EST
DTSTART:20221106T060000
END:STANDARD
END:VTIMEZONE
BEGIN:VEVENT
DTSTART;VALUE=DATE:20211108
DTEND;VALUE=DATE:20211110
DTSTAMP:20260421T054628
CREATED:20201203T015107Z
LAST-MODIFIED:20211101T152552Z
UID:4720-1636329600-1636502399@carb-x.org
SUMMARY:World Antimicrobial Resistance Congress 2021
DESCRIPTION:Antimicrobial resistance (AMR) is one of the biggest global health crises facing the world today. The number of deaths attributed to AMR is expected to surpass the number of deaths from cancer worldwide by 2050. Yet combatting resistance globally and developing a robust arsenal of antibiotics continues to fall behind the pace of resistance.\nSince 2015\, the World Anti-Microbial Resistance Congress has been the go-to conference globally for all stakeholders in the AMR space to meet\, brainstorm ideas and formulate initiatives that can effectively tackle this pressing issue. \nIndustry leaders\, innovative technology and solution providers\, public authorities\, international organizations\, infectious disease clinicians\, pharmacists and microbiologists are some of the 1\,000+ attendees from over 50 countries who will gather this November 2021 at the World Anti-Microbial Resistance Congress. \nThe conference will gather global leaders in infectious diseases to meet\, brainstorm and discuss the challenges and opportunities on the following areas: \n\nAdvancing antibiotic R&D and non-traditional therapies development\nEnhancing the commercial landscape and marketplace for antibiotics and diagnostics\nDeveloping innovative diagnostics solutions\nFacilitating interactions between funders and developers\nImproving antimicrobial stewardship guidelines and practice through technology\nImplementing sustainable environmental and manufacturing practices\nTackling infection control at hospitals efficiently and cost-effectively\nApplying genomics to easily detect resistant pathogens and to accelerate antibiotic R&D\nLeveraging surveillance platforms and solutions to monitor outbreaks and increasing numbers of resistant pathogens locally\, regionally\, nationally and globally.\n\nIf you work in these key areas of AMR\, then you must attend the World Anti-Microbial Resistance Congress 2021! \nClick here to learn more.\nClick here to view the agenda.\nClick here to register.
URL:https://carb-x.org/event/world-amr-congress-2021/
LOCATION:Washington DC
END:VEVENT
END:VCALENDAR