BEGIN:VCALENDAR
VERSION:2.0
PRODID:-//Carb-X - ECPv6.15.20//NONSGML v1.0//EN
CALSCALE:GREGORIAN
METHOD:PUBLISH
X-WR-CALNAME:Carb-X
X-ORIGINAL-URL:https://carb-x.org
X-WR-CALDESC:Events for Carb-X
REFRESH-INTERVAL;VALUE=DURATION:PT1H
X-Robots-Tag:noindex
X-PUBLISHED-TTL:PT1H
BEGIN:VTIMEZONE
TZID:America/New_York
BEGIN:DAYLIGHT
TZOFFSETFROM:-0500
TZOFFSETTO:-0400
TZNAME:EDT
DTSTART:20180311T070000
END:DAYLIGHT
BEGIN:STANDARD
TZOFFSETFROM:-0400
TZOFFSETTO:-0500
TZNAME:EST
DTSTART:20181104T060000
END:STANDARD
BEGIN:DAYLIGHT
TZOFFSETFROM:-0500
TZOFFSETTO:-0400
TZNAME:EDT
DTSTART:20190310T070000
END:DAYLIGHT
BEGIN:STANDARD
TZOFFSETFROM:-0400
TZOFFSETTO:-0500
TZNAME:EST
DTSTART:20191103T060000
END:STANDARD
BEGIN:DAYLIGHT
TZOFFSETFROM:-0500
TZOFFSETTO:-0400
TZNAME:EDT
DTSTART:20200308T070000
END:DAYLIGHT
BEGIN:STANDARD
TZOFFSETFROM:-0400
TZOFFSETTO:-0500
TZNAME:EST
DTSTART:20201101T060000
END:STANDARD
END:VTIMEZONE
BEGIN:VEVENT
DTSTART;VALUE=DATE:20190605
DTEND;VALUE=DATE:20190607
DTSTAMP:20260419T200243
CREATED:20190226T195721Z
LAST-MODIFIED:20190305T211145Z
UID:2461-1559692800-1559865599@carb-x.org
SUMMARY:Medical\, Biomedical & Biodefense: Support to the Warfighter Symposium
DESCRIPTION:Panelists members include Kevin Outterson\, Executive Director of CARB-X\, on the “Public-Private Partnerships: Research and Development Consortia and Accelerators” panel. \n\n\n\nThis panel will discuss the use of public-private partnerships as models for stimulating innovation through sponsored research and development. The panelists will provide overviews of several partnership-enabled consortia and accelerators\, including BARDA’s new Division of Research\, Innovation\, and Ventures and their participation in the partnership\, Combating Antibiotic Resistant Bacteria\, and\, as well as DoD’s Medical CBRN Defense Consortium and Medical Technology Enterprise Consortium. Presenters will discuss their organization’s background and structure\, as well as their unique mechanisms for engaging the research community to solve significant public health and biomedical challenges. \n\n\n\nThe Symposium will focus on two separate tracts. The first\, “Medical Support to the Warfighter\,” will connect businesses and university researchers with military and other federal agencies that require or purchase medical supplies\, equipment\, devices\, pharmaceuticals\, information technology and services\, or fund medical-related research and development. \nThe second tract\, “Biomedical and Biodefense Support to the Warfighter\,” will focus on establishing dialogue between industry and academia-based technology innovators and military and government officials to address the future biomedical and biodefense needs of the military and our nation. \n\nTo learn more\, please click here.
URL:https://carb-x.org/event/medical-biomedical-biodefense-support-to-the-warfighter-symposium/
LOCATION:The Friday Conference Center\, 100 Friday Center Drive\, Chapel Hill\, NC\, 27599\, United States
END:VEVENT
END:VCALENDAR