BEGIN:VCALENDAR
VERSION:2.0
PRODID:-//Carb-X - ECPv6.15.20//NONSGML v1.0//EN
CALSCALE:GREGORIAN
METHOD:PUBLISH
X-WR-CALNAME:Carb-X
X-ORIGINAL-URL:https://carb-x.org
X-WR-CALDESC:Events for Carb-X
REFRESH-INTERVAL;VALUE=DURATION:PT1H
X-Robots-Tag:noindex
X-PUBLISHED-TTL:PT1H
BEGIN:VTIMEZONE
TZID:America/New_York
BEGIN:DAYLIGHT
TZOFFSETFROM:-0500
TZOFFSETTO:-0400
TZNAME:EDT
DTSTART:20200308T070000
END:DAYLIGHT
BEGIN:STANDARD
TZOFFSETFROM:-0400
TZOFFSETTO:-0500
TZNAME:EST
DTSTART:20201101T060000
END:STANDARD
BEGIN:DAYLIGHT
TZOFFSETFROM:-0500
TZOFFSETTO:-0400
TZNAME:EDT
DTSTART:20210314T070000
END:DAYLIGHT
BEGIN:STANDARD
TZOFFSETFROM:-0400
TZOFFSETTO:-0500
TZNAME:EST
DTSTART:20211107T060000
END:STANDARD
BEGIN:DAYLIGHT
TZOFFSETFROM:-0500
TZOFFSETTO:-0400
TZNAME:EDT
DTSTART:20220313T070000
END:DAYLIGHT
BEGIN:STANDARD
TZOFFSETFROM:-0400
TZOFFSETTO:-0500
TZNAME:EST
DTSTART:20221106T060000
END:STANDARD
END:VTIMEZONE
BEGIN:VEVENT
DTSTART;VALUE=DATE:20211115
DTEND;VALUE=DATE:20211117
DTSTAMP:20260422T121739
CREATED:20210127T235230Z
LAST-MODIFIED:20210127T235230Z
UID:4908-1636934400-1637107199@carb-x.org
SUMMARY:3rd SCI-RSC Symposium on Antimicrobial Drug Discovery
DESCRIPTION:At a time when antimicrobial resistance is decreasing the efficacy of existing treatments\, it has never been more important that we refresh the drug pipeline with new therapeutics acting on new targets or exhibiting novel modes of action.\nFortunately\, renewed interest from both industry and academia has led to a resurgence in antimicrobial drug discovery and interest in developing innovative technologies and approaches for combating infection. \nCoinciding with WHO’s World Antibiotics Awareness week\, this two-day meeting will examine the latest advances in antimicrobial drug discovery from a medicinal chemist’s perspective\, focusing on the particular challenges associated with developing antimicrobials whilst also showcasing emerging strategies for tackling infection. \nBringing together leading exponents in the field from industry and academia\, the meeting will appeal to anyone with an interest in antimicrobial resistance and antimicrobial drug discovery. And with great opportunities for academic–industrial partnerships\, researchers from both sectors will also benefit from the networking opportunities that the meeting will offer. \nClick here to learn more.\nEmail conferences@soci.org to register your interest. \nConference Team\nTel: +44 (0)20 7598 1561\nEmail: conferences@soci.org
URL:https://carb-x.org/event/3rd-sci-rsc-symposium-on-antimicrobial-drug-discovery/
LOCATION:SCI\, 14/15 Belgrave Square\, London\, SW1X 8PS\, United Kingdom
END:VEVENT
END:VCALENDAR