BEGIN:VCALENDAR
VERSION:2.0
PRODID:-//Carb-X - ECPv6.15.20//NONSGML v1.0//EN
CALSCALE:GREGORIAN
METHOD:PUBLISH
X-ORIGINAL-URL:https://carb-x.org
X-WR-CALDESC:Events for Carb-X
REFRESH-INTERVAL;VALUE=DURATION:PT1H
X-Robots-Tag:noindex
X-PUBLISHED-TTL:PT1H
BEGIN:VTIMEZONE
TZID:UTC
BEGIN:STANDARD
TZOFFSETFROM:+0000
TZOFFSETTO:+0000
TZNAME:UTC
DTSTART:20170101T000000
END:STANDARD
END:VTIMEZONE
BEGIN:VEVENT
DTSTART;VALUE=DATE:20180614
DTEND;VALUE=DATE:20180615
DTSTAMP:20260421T150723
CREATED:20180508T181832Z
LAST-MODIFIED:20180508T181832Z
UID:1351-1528934400-1529020799@carb-x.org
SUMMARY:Understanding the Development Challenges Associated with Emerging Non-Traditional Antibiotics
DESCRIPTION:
URL:https://carb-x.org/event/understanding-the-development-challenges-associated-with-emerging-non-traditional-antibiotics/
LOCATION:JW Marriott Washington DC\, 1331 Pennsylvania Avenue NW\, Washington\, DC\, 20004\, United States
END:VEVENT
END:VCALENDAR