BEGIN:VCALENDAR
VERSION:2.0
PRODID:-//Carb-X - ECPv6.15.20//NONSGML v1.0//EN
CALSCALE:GREGORIAN
METHOD:PUBLISH
X-ORIGINAL-URL:https://carb-x.org
X-WR-CALDESC:Events for Carb-X
REFRESH-INTERVAL;VALUE=DURATION:PT1H
X-Robots-Tag:noindex
X-PUBLISHED-TTL:PT1H
BEGIN:VTIMEZONE
TZID:America/New_York
BEGIN:DAYLIGHT
TZOFFSETFROM:-0500
TZOFFSETTO:-0400
TZNAME:EDT
DTSTART:20220313T070000
END:DAYLIGHT
BEGIN:STANDARD
TZOFFSETFROM:-0400
TZOFFSETTO:-0500
TZNAME:EST
DTSTART:20221106T060000
END:STANDARD
BEGIN:DAYLIGHT
TZOFFSETFROM:-0500
TZOFFSETTO:-0400
TZNAME:EDT
DTSTART:20230312T070000
END:DAYLIGHT
BEGIN:STANDARD
TZOFFSETFROM:-0400
TZOFFSETTO:-0500
TZNAME:EST
DTSTART:20231105T060000
END:STANDARD
BEGIN:DAYLIGHT
TZOFFSETFROM:-0500
TZOFFSETTO:-0400
TZNAME:EDT
DTSTART:20240310T070000
END:DAYLIGHT
BEGIN:STANDARD
TZOFFSETFROM:-0400
TZOFFSETTO:-0500
TZNAME:EST
DTSTART:20241103T060000
END:STANDARD
END:VTIMEZONE
BEGIN:VEVENT
DTSTART;TZID=America/New_York:20230612T080000
DTEND;TZID=America/New_York:20230613T170000
DTSTAMP:20260422T114118
CREATED:20230419T193241Z
LAST-MODIFIED:20230419T193241Z
UID:7460-1686556800-1686675600@carb-x.org
SUMMARY:Boston Bacterial Meeting 2023
DESCRIPTION:The meeting will be held at the Harvard Science Center\, 1 Oxford St\, Cambridge\, MA 02138. Please visit our Directions page for information on public transit and parking. \n\n\n\n\nThe keynote address for BBM 2023 will be delivered by Dr. Kumaran Ramamurthi from the NIH. Dr. Ramamurthi is a renowned bacterial cell biologist who has made important contributions to our understanding of how morphogenetic proteins localize to specific sites and drive essential processes such as spore formation and cell division. Please visit our Keynote Speaker page for more information about his career and accomplishments. \n\n\n\n\n\n\n\n\n\n\n\nAbout BBM\n\n\n\n\nBBM was founded in 1995 by two postdocs from Richard Losick’s lab at Harvard\, Kit Pogliano and Karen McGovern\, with the goal of bringing bacteriologists from the greater Boston area together to present their work and share ideas. BBM\, now in its 29th year\, has proven to be a vibrant meeting\, attended not only by bacteriologists from the Boston area but from all over the country. Keeping with its roots\, the conference is being planned and organized by a committee of students\, postdocs\, and other early career researchers. This year\, the organizational committee is co-chaired by Alam García-Heredia\, a postdoc in Alan Grossman’s lab at MIT\, and Shailab Shrestha\, a graduate student in Aimee Shen’s lab at Tufts.
URL:https://carb-x.org/event/boston-bacterial-meeting-2023/
LOCATION:Harvard Science Center
END:VEVENT
END:VCALENDAR