BEGIN:VCALENDAR
VERSION:2.0
PRODID:-//Carb-X - ECPv6.15.20//NONSGML v1.0//EN
CALSCALE:GREGORIAN
METHOD:PUBLISH
X-WR-CALNAME:Carb-X
X-ORIGINAL-URL:https://carb-x.org
X-WR-CALDESC:Events for Carb-X
REFRESH-INTERVAL;VALUE=DURATION:PT1H
X-Robots-Tag:noindex
X-PUBLISHED-TTL:PT1H
BEGIN:VTIMEZONE
TZID:America/New_York
BEGIN:DAYLIGHT
TZOFFSETFROM:-0500
TZOFFSETTO:-0400
TZNAME:EDT
DTSTART:20220313T070000
END:DAYLIGHT
BEGIN:STANDARD
TZOFFSETFROM:-0400
TZOFFSETTO:-0500
TZNAME:EST
DTSTART:20221106T060000
END:STANDARD
BEGIN:DAYLIGHT
TZOFFSETFROM:-0500
TZOFFSETTO:-0400
TZNAME:EDT
DTSTART:20230312T070000
END:DAYLIGHT
BEGIN:STANDARD
TZOFFSETFROM:-0400
TZOFFSETTO:-0500
TZNAME:EST
DTSTART:20231105T060000
END:STANDARD
BEGIN:DAYLIGHT
TZOFFSETFROM:-0500
TZOFFSETTO:-0400
TZNAME:EDT
DTSTART:20240310T070000
END:DAYLIGHT
BEGIN:STANDARD
TZOFFSETFROM:-0400
TZOFFSETTO:-0500
TZNAME:EST
DTSTART:20241103T060000
END:STANDARD
END:VTIMEZONE
BEGIN:VEVENT
DTSTART;TZID=America/New_York:20230615T080000
DTEND;TZID=America/New_York:20230619T170000
DTSTAMP:20260420T112511
CREATED:20230419T193615Z
LAST-MODIFIED:20230419T193817Z
UID:7463-1686816000-1687194000@carb-x.org
SUMMARY:ASM Microbe 2023
DESCRIPTION:Join thousands of scientists\, researchers and healthcare professionals in your field\, who are all traveling to Houston\, TX from June 15-19 for the largest microbial sciences gathering in the world! Andy Weir\, John Nkengasong and Edward Holmes are just some of the world-renowned speakers lined up in ASM Microbe’s cutting-edge scientific program. \nPlus\, do you have late-breaking research? There is still time to join our robust scientific program! Emerging Abstract Submissions Opens April 4. Don’t miss the opportunity to present your research and learn about the latest science from experts and leaders in your field. \nASM Microbe 2023 will cover: \n\nDisaster Microbiology.\nEmerging Infections – What is the Next pandemic? (Focus on Nipah and Marburg).\nNatural Product Discovery and Synthesis.\nThe Next Generation Antifungal Agents: Clinical Application and Resistance.\nCombating the Climate Crisis with Critters: Microbial Carbon Capture.\nPowering the Future: Applied Microbiology in the Energy Industry.\nEquity and Access in Laboratory Diagnostics.\nMicrobiome Management in a Changing World.\nNew Perspectives on Phage Therapy to Treat Multidrug Resistant Infections.\nBeyond Academia: Fulfilling Microbiology Careers Outside the Tenure Track.\nThe Perks of Being Squishy: Archaea as a Skillful Mechanoresponsive Machine.\nWhat is the Microbiota Really Doing in Neuroinflammatory Diseases?\nAnd so much more!
URL:https://carb-x.org/event/asm-microbe-2023/
LOCATION:George R. Brown Convention Center\, Houston\, TX
END:VEVENT
END:VCALENDAR