BEGIN:VCALENDAR
VERSION:2.0
PRODID:-//Carb-X - ECPv6.15.20//NONSGML v1.0//EN
CALSCALE:GREGORIAN
METHOD:PUBLISH
X-WR-CALNAME:Carb-X
X-ORIGINAL-URL:https://carb-x.org
X-WR-CALDESC:Events for Carb-X
REFRESH-INTERVAL;VALUE=DURATION:PT1H
X-Robots-Tag:noindex
X-PUBLISHED-TTL:PT1H
BEGIN:VTIMEZONE
TZID:America/New_York
BEGIN:DAYLIGHT
TZOFFSETFROM:-0500
TZOFFSETTO:-0400
TZNAME:EDT
DTSTART:20230312T070000
END:DAYLIGHT
BEGIN:STANDARD
TZOFFSETFROM:-0400
TZOFFSETTO:-0500
TZNAME:EST
DTSTART:20231105T060000
END:STANDARD
BEGIN:DAYLIGHT
TZOFFSETFROM:-0500
TZOFFSETTO:-0400
TZNAME:EDT
DTSTART:20240310T070000
END:DAYLIGHT
BEGIN:STANDARD
TZOFFSETFROM:-0400
TZOFFSETTO:-0500
TZNAME:EST
DTSTART:20241103T060000
END:STANDARD
BEGIN:DAYLIGHT
TZOFFSETFROM:-0500
TZOFFSETTO:-0400
TZNAME:EDT
DTSTART:20250309T070000
END:DAYLIGHT
BEGIN:STANDARD
TZOFFSETFROM:-0400
TZOFFSETTO:-0500
TZNAME:EST
DTSTART:20251102T060000
END:STANDARD
END:VTIMEZONE
BEGIN:VEVENT
DTSTART;TZID=America/New_York:20240917T080000
DTEND;TZID=America/New_York:20240919T170000
DTSTAMP:20260421T042822
CREATED:20240805T151200Z
LAST-MODIFIED:20240805T151200Z
UID:8807-1726560000-1726765200@carb-x.org
SUMMARY:World Cancer Congress
DESCRIPTION:The World Cancer Congress aims to strengthen the participants’ actions and impact on national\, regional and international scales through a multidisciplinary programme featuring the latest successful cancer prevention\, diagnosis\, treatment and care interventions. \nThe World Cancer Congress is an initiative of the Union for International Cancer Control (UICC) –  which was recognised with Membership Engagement Award – and supports the organisation’s mission: ‘to both unite and support the cancer community in its efforts to reduce the global cancer burden\, promote greater equity and ensure that cancer control remains a priority on the global health and development agenda’. \nThe upcoming edition will however be hosted in UICC’s hometown\, Geneva in Switzerland\, on 17-19 September 2024\, at the International Conference Centre Geneva (CICG). UICC member organisations from across Europe will be joining in as co-hosts.
URL:https://carb-x.org/event/world-cancer-congress/
LOCATION:Geneva\, Switzerland
END:VEVENT
END:VCALENDAR