BEGIN:VCALENDAR
VERSION:2.0
PRODID:-//Carb-X - ECPv6.15.20//NONSGML v1.0//EN
CALSCALE:GREGORIAN
METHOD:PUBLISH
X-ORIGINAL-URL:https://carb-x.org
X-WR-CALDESC:Events for Carb-X
REFRESH-INTERVAL;VALUE=DURATION:PT1H
X-Robots-Tag:noindex
X-PUBLISHED-TTL:PT1H
BEGIN:VTIMEZONE
TZID:America/New_York
BEGIN:DAYLIGHT
TZOFFSETFROM:-0500
TZOFFSETTO:-0400
TZNAME:EDT
DTSTART:20200308T070000
END:DAYLIGHT
BEGIN:STANDARD
TZOFFSETFROM:-0400
TZOFFSETTO:-0500
TZNAME:EST
DTSTART:20201101T060000
END:STANDARD
BEGIN:DAYLIGHT
TZOFFSETFROM:-0500
TZOFFSETTO:-0400
TZNAME:EDT
DTSTART:20210314T070000
END:DAYLIGHT
BEGIN:STANDARD
TZOFFSETFROM:-0400
TZOFFSETTO:-0500
TZNAME:EST
DTSTART:20211107T060000
END:STANDARD
BEGIN:DAYLIGHT
TZOFFSETFROM:-0500
TZOFFSETTO:-0400
TZNAME:EDT
DTSTART:20220313T070000
END:DAYLIGHT
BEGIN:STANDARD
TZOFFSETFROM:-0400
TZOFFSETTO:-0500
TZNAME:EST
DTSTART:20221106T060000
END:STANDARD
BEGIN:DAYLIGHT
TZOFFSETFROM:-0500
TZOFFSETTO:-0400
TZNAME:EDT
DTSTART:20230312T070000
END:DAYLIGHT
BEGIN:STANDARD
TZOFFSETFROM:-0400
TZOFFSETTO:-0500
TZNAME:EST
DTSTART:20231105T060000
END:STANDARD
BEGIN:DAYLIGHT
TZOFFSETFROM:-0500
TZOFFSETTO:-0400
TZNAME:EDT
DTSTART:20240310T070000
END:DAYLIGHT
BEGIN:STANDARD
TZOFFSETFROM:-0400
TZOFFSETTO:-0500
TZNAME:EST
DTSTART:20241103T060000
END:STANDARD
BEGIN:DAYLIGHT
TZOFFSETFROM:-0500
TZOFFSETTO:-0400
TZNAME:EDT
DTSTART:20250309T070000
END:DAYLIGHT
BEGIN:STANDARD
TZOFFSETFROM:-0400
TZOFFSETTO:-0500
TZNAME:EST
DTSTART:20251102T060000
END:STANDARD
BEGIN:DAYLIGHT
TZOFFSETFROM:-0500
TZOFFSETTO:-0400
TZNAME:EDT
DTSTART:20260308T070000
END:DAYLIGHT
BEGIN:STANDARD
TZOFFSETFROM:-0400
TZOFFSETTO:-0500
TZNAME:EST
DTSTART:20261101T060000
END:STANDARD
END:VTIMEZONE
BEGIN:VEVENT
DTSTART;TZID=America/New_York:20251019T080000
DTEND;TZID=America/New_York:20251022T170000
DTSTAMP:20260423T104257
CREATED:20241211T225710Z
LAST-MODIFIED:20241211T225710Z
UID:9240-1760860800-1761152400@carb-x.org
SUMMARY:IDWeek 2025
DESCRIPTION:IDWeek is the joint annual meeting of the Infectious Diseases Society of America\, the Society for Healthcare Epidemiology of America\, the HIV Medicine Association\, the Pediatric Infectious Diseases Society and the Society of Infectious Diseases Pharmacists. Come discover the science at the premier forum for ID health professionals of varied backgrounds and collaborate\, connect and learn from each other’s expertise for the improvement of patient care and public health.
URL:https://carb-x.org/event/idweek-2025/
LOCATION:Atlanta\, Georgia
END:VEVENT
BEGIN:VEVENT
DTSTART;VALUE=DATE:20210927
DTEND;VALUE=DATE:20211003
DTSTAMP:20260423T104257
CREATED:20210128T005224Z
LAST-MODIFIED:20210128T005224Z
UID:4924-1632700800-1633219199@carb-x.org
SUMMARY:18th International Conference on Pseudomonas
DESCRIPTION:The scientific sessions include Genomics and gene regulation; Antimicrobial tolerance; Host-Pathogen interactions; Metabolism and Physiology; Harnessing the Potential of Pseudomonas species; Evolution and Coevolution; Ecology; and Multi-species Interactions. \nPlenary Speaker: Fiona Brinkman\, Canada\, Fellow of the Royal Society of Canada \nKeynote Speakers: Joseph Bondy-Denomy\, Paul Turner\, Barbara Kazmierczak\, Gregg Beckham\, Wei Huang\, Jenna Gallie\, Britt Koskella\, and Jessica Scoffield \nClick here to learn more.\nClick here to view the agenda.\nClick here to register.
URL:https://carb-x.org/event/18th-international-conference-on-pseudomonas/
LOCATION:Atlanta\, Georgia
END:VEVENT
END:VCALENDAR